View In:
ArcGIS JavaScript
ArcGIS Online Map Viewer
ArcGIS Earth
Service Description: To publish an image service, open ArcMap, navigate to the raster in the Catalog pane, right-click and choose Share As Image Service. Source: PRD31.GIS.D06.sde\Crash_data_kernel_density
Name: D06/Crash_data_Kernel_Density
Description: To publish an image service, open ArcMap, navigate to the raster in the Catalog pane, right-click and choose Share As Image Service. Source: PRD31.GIS.D06.sde\Crash_data_kernel_density
Single Fused Map Cache: false
Extent:
XMin: -9312894.1071
YMin: 4734541.304300003
XMax: -9147294.1071
YMax: 4970141.304300003
Spatial Reference: 102100
(3857)
Initial Extent:
XMin: -9312894.1071
YMin: 4734541.304300003
XMax: -9147294.1071
YMax: 4970141.304300003
Spatial Reference: 102100
(3857)
Full Extent:
XMin: -9312894.1071
YMin: 4734541.304300003
XMax: -9147294.1071
YMax: 4970141.304300003
Spatial Reference: 102100
(3857)
Pixel Size X: 100.0
Pixel Size Y: 100.0
Band Count: 1
Pixel Type: F32
RasterFunction Infos: {"rasterFunctionInfos": [{
"help": "",
"name": "None",
"description": ""
}]}
Mensuration Capabilities: Basic
Inspection Capabilities:
Has Histograms: true
Has Colormap: false
Has Multi Dimensions : false
Rendering Rule:
Min Scale: 0
Max Scale: 0
Copyright Text:
Service Data Type: esriImageServiceDataTypeGeneric
Min Values: 0
Max Values: 976.71343994140625
Mean Values: 7.4646045444418627
Standard Deviation Values: 37.542308491695209
Object ID Field:
Fields:
None
Default Mosaic Method: Center
Allowed Mosaic Methods:
SortField:
SortValue: N/A
Mosaic Operator: First
Default Compression Quality: 75
Default Resampling Method: Bilinear
Max Record Count: null
Max Image Height: 4100
Max Image Width: 15000
Max Download Image Count: null
Max Mosaic Image Count: null
Allow Raster Function: true
Allow Copy: true
Allow Analysis: true
Allow Compute TiePoints: false
Supports Statistics: false
Supports Advanced Queries: false
Use StandardizedQueries: false
Raster Type Infos:
Name: Raster Dataset
Description: Supports all ArcGIS Raster Datasets
Help:
Has Raster Attribute Table: false
Edit Fields Info: N/A
Ownership Based AccessControl For Rasters: N/A
Child Resources:
Info
Histograms
Statistics
Key Properties
Legend
Raster Function Infos
Supported Operations:
Export Image
Identify
Measure
Compute Histograms
Compute Statistics Histograms
Get Samples
Compute Class Statistics
Query Boundary
Compute Pixel Location
Compute Angles
Validate
Project