{
 "extent": {
  "ymin": 4734541.3043000028,
  "xmin": -9312894.1071000006,
  "ymax": 4970141.3043000028,
  "xmax": -9147294.1071000006,
  "spatialReference": {
   "latestWkid": 3857,
   "wkid": 102100
  }
 },
 "blockWidth": 128,
 "mosaicOperator": "First",
 "serviceSourceType": "esriImageServiceSourceTypeDataset",
 "hasMultidimensions": false,
 "maxImageWidth": 15000,
 "meanValues": [
  7.4646045444418627
 ],
 "hasColormap": false,
 "compressionType": "LZ77",
 "defaultCompressionQuality": 75,
 "maxValues": [
  976.71343994140625
 ],
 "hasHistograms": true,
 "datasetFormat": "SDR",
 "maxImageHeight": 4100,
 "sortField": "",
 "bandNames": [
  "Band_1"
 ],
 "spatialReference": {
  "latestWkid": 3857,
  "wkid": 102100
 },
 "fullExtent": {
  "ymin": 4734541.3043000028,
  "xmin": -9312894.1071000006,
  "ymax": 4970141.3043000028,
  "xmax": -9147294.1071000006,
  "spatialReference": {
   "latestWkid": 3857,
   "wkid": 102100
  }
 },
 "bandCount": 1,
 "rasterFunctionInfos": [
  {
   "help": "",
   "name": "None",
   "description": ""
  }
 ],
 "supportsStatistics": false,
 "sortableFields": "",
 "minValues": [
  0
 ],
 "allowRasterFunction": true,
 "allowComputeTiePoints": false,
 "serviceDataType": "esriImageServiceDataTypeGeneric",
 "supportsAdvancedQueries": false,
 "currentVersion": 12.1,
 "sortValue": null,
 "objectIdField": "",
 "blockHeight": 128,
 "initialExtent": {
  "ymin": 4734541.3043000028,
  "xmin": -9312894.1071000006,
  "ymax": 4970141.3043000028,
  "xmax": -9147294.1071000006,
  "spatialReference": {
   "latestWkid": 3857,
   "wkid": 102100
  }
 },
 "pixelSizeX": 100,
 "pixelSizeY": 100,
 "defaultMosaicMethod": "Center",
 "name": "D06/Crash_data_Kernel_Density",
 "allowedMosaicMethods": "",
 "fields": [],
 "allowAnalysis": true,
 "hasRasterAttributeTable": false,
 "useStandardizedQueries": false,
 "description": "To publish an image service, open ArcMap, navigate to the raster in the Catalog pane, right-click and choose Share As Image Service. Source: PRD31.GIS.D06.sde\\Crash_data_kernel_density",
 "pixelType": "F32",
 "meanPixelSize": 100,
 "exportTilesAllowed": false,
 "editFieldsInfo": null,
 "rasterTypeInfos": [
  {
   "help": "",
   "name": "Raster Dataset",
   "description": "Supports all ArcGIS Raster Datasets"
  }
 ],
 "defaultResamplingMethod": "Bilinear",
 "itemAccess": false,
 "minScale": 0,
 "serviceProperties": "Center<\/MosaicMethod>First<\/MosaicOperator>true<\/SortAscending><\/LockImageID><\/TileOrderField>0<\/TileOrderBase>0.000000<\/AvgImageSpacingX>0.000000<\/AvgImageSpacingY>0.0<\/ViewPointX>0.0<\/ViewPointY>0.0<\/ViewPointDefShiftX>0.0<\/ViewPointDefShiftY>None<\/CompressionMethod>75<\/CompressionQuality>0.010000<\/CompressionTolerance>Bilinear<\/SamplingMethod><\/ImageServiceProperties><\/ImageServer>",
 "advancedQueryCapabilities": {
  "supportsStatistics": false,
  "supportsSqlExpression": false,
  "supportsOrderBy": false,
  "useStandardizedQueries": false,
  "supportsPagination": false,
  "supportsDistinct": false
 },
 "capabilities": "Image,Metadata,Mensuration",
 "maxScale": 0,
 "stdvValues": [
  37.542308491695209
 ],
 "allowedFields": "",
 "minPixelSize": 0,
 "sortAscending": true,
 "inspectionCapabilities": "",
 "maxPixelSize": 0,
 "allowedCompressions": "None,JPEG,LZ77,LERC",
 "uncompressedSize": 15606144,
 "serviceDescription": "To publish an image service, open ArcMap, navigate to the raster in the Catalog pane, right-click and choose Share As Image Service. Source: PRD31.GIS.D06.sde\\Crash_data_kernel_density",
 "allowCopy": true,
 "copyrightText": "",
 "mensurationCapabilities": "Basic",
 "ownershipBasedAccessControlForRasters": null
}
