<?xml version="1.0" encoding="UTF-8" standalone="no"?>
<metadata xml:lang="en">
<Esri>
<CreaDate>20221110</CreaDate>
<CreaTime>13560200</CreaTime>
<ArcGISFormat>1.0</ArcGISFormat>
<SyncOnce>FALSE</SyncOnce>
<DataProperties>
<lineage>
<Process Date="20221110" Time="135602" ToolSource="c:\program files\arcgis\pro\Resources\ArcToolbox\toolboxes\Spatial Analyst Tools.tbx\KernelDensity">KernelDensity crash_data_add_demand_need NONE \\dotd06file01.dot.state.oh.us\users\wchen\ArcGIS\Projects\MyProject4\MyProject4.gdb\Kernel_Density_100metercell_sqmiledensity_geodetic 100 # "Square miles" Densities Geodesic #</Process>
<Process Date="20221110" Time="141240" ToolSource="c:\program files\arcgis\pro\Resources\ArcToolbox\toolboxes\Data Management Tools.tbx\Rename">Rename \\dotd06file01.dot.state.oh.us\users\wchen\ArcGIS\Projects\MyProject4\MyProject4.gdb\Kernel_Density_100metercell_sqmiledensity_geodetic \\dotd06file01.dot.state.oh.us\users\wchen\ArcGIS\Projects\MyProject4\MyProject4.gdb\Crash_data_Kernel_Density_100metercell_sqmiledensity_geodetic RasterDataset</Process>
<Process Date="20221114" Time="131425" ToolSource="c:\program files\arcgis\pro\Resources\ArcToolbox\toolboxes\Data Management Tools.tbx\CopyRaster">CopyRaster Crash_data_Kernel_Density \\itcfs007\gis\shared_storage\D06\Wenquin\PRD31.GIS.D06.sde\GIS.D06.Crash_data_Kernel_Density # # 3.4e+38 NONE NONE # NONE NONE "Esri Grid format" NONE CURRENT_SLICE NO_TRANSPOSE</Process>
</lineage>
<LayerFile>{"type":"CIMLayerDocument","version":"2.9.0","build":32739,"layers":["CIMPATH=map/kernel_density_100metercell_sqmiledensity_geodetic.xml"],"layerDefinitions":[{"type":"CIMRasterLayer","name":"Kernel_Density_100metercell_sqmiledensity_geodetic","uRI":"CIMPATH=map/kernel_density_100metercell_sqmiledensity_geodetic.xml","sourceModifiedTime":{"type":"TimeInstant"},"useSourceMetadata":true,"description":"Kernel_Density_100metercell_sqmiledensity_geodetic","layerElevation":{"type":"CIMLayerElevationSurface","mapElevationID":"{8D55CAB0-3150-4E24-BABA-B9A979C93D01}"},"expanded":true,"layerType":"Operational","showLegends":true,"visibility":true,"displayCacheType":"Permanent","maxDisplayCacheAge":5,"showPopups":true,"serviceLayerID":-1,"refreshRate":-1,"refreshRateUnit":"esriTimeUnitsSeconds","blendingMode":"Alpha","allowDrapingOnIntegratedMesh":true,"dataConnection":{"type":"CIMStandardDataConnection","workspaceConnectionString":"DATABASE=\\\\dotd06file01.dot.state.oh.us\\users\\wchen\\ArcGIS\\Projects\\MyProject4\\MyProject4.gdb","workspaceFactory":"FileGDB","dataset":"Kernel_Density_100metercell_sqmiledensity_geodetic","datasetType":"esriDTRasterDataset"},"colorizer":{"type":"CIMRasterClassifyColorizer","resamplingType":"NearestNeighbor","normalizationType":"Nothing","classBreaks":[{"type":"CIMRasterClassBreak","upperBound":97.6713439941406278,"label":"0.001 - 97.671","color":{"type":"CIMRGBColor","values":[239,237,245,34]}},{"type":"CIMRasterClassBreak","upperBound":195.342687988281256,"label":"97.672 - 195.343","color":{"type":"CIMRGBColor","values":[217.400000000000006,215.210000000000008,233.52000000000001,42.9500000000000028]}},{"type":"CIMRasterClassBreak","upperBound":293.0140319824219,"label":"195.344 - 293.014","color":{"type":"CIMRGBColor","values":[195.800000000000011,193.41,222.039999999999992,51.8999999999999986]}},{"type":"CIMRasterClassBreak","upperBound":390.685375976562511,"label":"293.015 - 390.685","color":{"type":"CIMRGBColor","values":[174.199999999999989,171.62,210.56,60.8500000000000014]}},{"type":"CIMRasterClassBreak","upperBound":488.356719970703125,"label":"390.686 - 488.357","color":{"type":"CIMRGBColor","values":[152.599999999999994,149.819999999999993,199.080000000000013,69.7999999999999972]}},{"type":"CIMRasterClassBreak","upperBound":586.0280639648438,"label":"488.358 - 586.028","color":{"type":"CIMRGBColor","values":[131,128.03,187.599999999999994,78.7600000000000051]}},{"type":"CIMRasterClassBreak","upperBound":683.699407958984466,"label":"586.029 - 683.699","color":{"type":"CIMRGBColor","values":[113.28,95.5600000000000023,170.610000000000014,93.3799999999999955]}},{"type":"CIMRasterClassBreak","upperBound":781.370751953125136,"label":"683.7 - 781.371","color":{"type":"CIMRGBColor","values":[96.1899999999999977,62.2700000000000031,154.080000000000013,100]}},{"type":"CIMRasterClassBreak","upperBound":879.042095947265807,"label":"781.372 - 879.042","color":{"type":"CIMRGBColor","values":[79.3199999999999932,30.3000000000000007,138.97999999999999,100]}},{"type":"CIMRasterClassBreak","upperBound":976.71343994140625,"label":"879.043 - 976.713","color":{"type":"CIMRGBColor","values":[63,0,125,100]}}],"classificationMethod":"EqualInterval","colorRamp":{"type":"CIMMultipartColorRamp","colorRamps":[{"type":"CIMLinearContinuousColorRamp","colorSpace":{"type":"CIMICCColorSpace","url":"CIELAB"},"fromColor":{"type":"CIMRGBColor","values":[239,237,245,34]},"toColor":{"type":"CIMRGBColor","values":[128,125,186,80]}},{"type":"CIMLinearContinuousColorRamp","colorSpace":{"type":"CIMICCColorSpace","url":"CIELAB"},"fromColor":{"type":"CIMRGBColor","values":[128,125,186,80]},"toColor":{"type":"CIMRGBColor","values":[106,81,163,100]}},{"type":"CIMLinearContinuousColorRamp","colorSpace":{"type":"CIMICCColorSpace","url":"CIELAB"},"fromColor":{"type":"CIMRGBColor","values":[106,81,163,100]},"toColor":{"type":"CIMRGBColor","values":[84,39,143,100]}},{"type":"CIMLinearContinuousColorRamp","colorSpace":{"type":"CIMICCColorSpace","url":"CIELAB"},"fromColor":{"type":"CIMRGBColor","values":[84,39,143,100]},"toColor":{"type":"CIMRGBColor","values":[63,0,125,100]}}],"weights":[57.1000000000000014,14.3000000000000007,14.3000000000000007,14.3000000000000007]},"exclusionLabel":"0","exclusionValues":[0],"field":"VALUE","hillshadeZFactor":1,"showInAscendingOrder":true}}]}</LayerFile>
<itemProps>
<itemName Sync="TRUE">GIS.D06.Crash_data_Kernel_Density</itemName>
<imsContentType Sync="TRUE">002</imsContentType>
<nativeExtBox>
<westBL Sync="TRUE">-9312894.107100</westBL>
<eastBL Sync="TRUE">-9147294.107100</eastBL>
<southBL Sync="TRUE">4734541.304300</southBL>
<northBL Sync="TRUE">4970141.304300</northBL>
<exTypeCode Sync="TRUE">1</exTypeCode>
</nativeExtBox>
<itemLocation>
<linkage Sync="TRUE">Server=DOTICSQLP31; Service=sde:sqlserver:DOTICSQLP31; Database=GIS; User=D06; Version=dbo.DEFAULT</linkage>
<protocol Sync="TRUE">ArcSDE Connection</protocol>
</itemLocation>
</itemProps>
<coordRef>
<type Sync="TRUE">Projected</type>
<geogcsn Sync="TRUE">GCS_WGS_1984</geogcsn>
<csUnits Sync="TRUE">Linear Unit: Meter (1.000000)</csUnits>
<projcsn Sync="TRUE">WGS_1984_Web_Mercator_Auxiliary_Sphere</projcsn>
<peXml Sync="TRUE">&lt;ProjectedCoordinateSystem xsi:type='typens:ProjectedCoordinateSystem' xmlns:xsi='http://www.w3.org/2001/XMLSchema-instance' xmlns:xs='http://www.w3.org/2001/XMLSchema' xmlns:typens='http://www.esri.com/schemas/ArcGIS/2.9.0'&gt;&lt;WKT&gt;PROJCS[&amp;quot;WGS_1984_Web_Mercator_Auxiliary_Sphere&amp;quot;,GEOGCS[&amp;quot;GCS_WGS_1984&amp;quot;,DATUM[&amp;quot;D_WGS_1984&amp;quot;,SPHEROID[&amp;quot;WGS_1984&amp;quot;,6378137.0,298.257223563]],PRIMEM[&amp;quot;Greenwich&amp;quot;,0.0],UNIT[&amp;quot;Degree&amp;quot;,0.0174532925199433]],PROJECTION[&amp;quot;Mercator_Auxiliary_Sphere&amp;quot;],PARAMETER[&amp;quot;False_Easting&amp;quot;,0.0],PARAMETER[&amp;quot;False_Northing&amp;quot;,0.0],PARAMETER[&amp;quot;Central_Meridian&amp;quot;,0.0],PARAMETER[&amp;quot;Standard_Parallel_1&amp;quot;,0.0],PARAMETER[&amp;quot;Auxiliary_Sphere_Type&amp;quot;,0.0],UNIT[&amp;quot;Meter&amp;quot;,1.0],AUTHORITY[&amp;quot;EPSG&amp;quot;,3857]]&lt;/WKT&gt;&lt;XOrigin&gt;-20037700&lt;/XOrigin&gt;&lt;YOrigin&gt;-30241100&lt;/YOrigin&gt;&lt;XYScale&gt;148923141.92838538&lt;/XYScale&gt;&lt;ZOrigin&gt;-100000&lt;/ZOrigin&gt;&lt;ZScale&gt;10000&lt;/ZScale&gt;&lt;MOrigin&gt;-100000&lt;/MOrigin&gt;&lt;MScale&gt;10000&lt;/MScale&gt;&lt;XYTolerance&gt;0.001&lt;/XYTolerance&gt;&lt;ZTolerance&gt;0.00020000000000000001&lt;/ZTolerance&gt;&lt;MTolerance&gt;0.00020000000000000001&lt;/MTolerance&gt;&lt;HighPrecision&gt;true&lt;/HighPrecision&gt;&lt;WKID&gt;102100&lt;/WKID&gt;&lt;LatestWKID&gt;3857&lt;/LatestWKID&gt;&lt;/ProjectedCoordinateSystem&gt;</peXml>
</coordRef>
</DataProperties>
<SyncDate>20221114</SyncDate>
<SyncTime>13142200</SyncTime>
<ModDate>20221114</ModDate>
<ModTime>13142200</ModTime>
</Esri>
<dataIdInfo>
<envirDesc Sync="TRUE">Microsoft Windows Server 2016 Technical Preview Version 10.0 (Build 14393) ; Esri ArcGIS 12.9.0.32739</envirDesc>
<dataLang>
<languageCode Sync="TRUE" value="eng"/>
<countryCode Sync="TRUE" value="USA"/>
</dataLang>
<idCitation>
<resTitle Sync="TRUE">Crash_data_Kernel_Density</resTitle>
<presForm>
<PresFormCd Sync="TRUE" value="011"/>
</presForm>
</idCitation>
<spatRpType>
<SpatRepTypCd Sync="TRUE" value="002"/>
</spatRpType>
<dataExt>
<geoEle>
<GeoBndBox esriExtentType="search">
<exTypeCode Sync="TRUE">1</exTypeCode>
<westBL Sync="TRUE">-83.659151</westBL>
<eastBL Sync="TRUE">-82.171541</eastBL>
<northBL Sync="TRUE">40.713275</northBL>
<southBL Sync="TRUE">39.089789</southBL>
</GeoBndBox>
</geoEle>
</dataExt>
<idAbs>To publish an image service, open ArcMap, navigate to the raster in the Catalog pane, right-click and choose Share As Image Service. Source: PRD31.GIS.D06.sde\Crash_data_kernel_density</idAbs>
<searchKeys>
<keyword>D06</keyword>
</searchKeys>
<idPurp>Crash data kernel density analysis</idPurp>
<idCredit/>
<resConst>
<Consts>
<useLimit/>
</Consts>
</resConst>
</dataIdInfo>
<mdLang>
<languageCode Sync="TRUE" value="eng"/>
<countryCode Sync="TRUE" value="USA"/>
</mdLang>
<distInfo>
<distFormat>
<formatName Sync="TRUE">Enterprise Geodatabase Raster Dataset</formatName>
</distFormat>
</distInfo>
<mdHrLv>
<ScopeCd Sync="TRUE" value="005"/>
</mdHrLv>
<mdHrLvName Sync="TRUE">dataset</mdHrLvName>
<refSysInfo>
<RefSystem>
<refSysID>
<identCode Sync="TRUE" code="3857"/>
<idCodeSpace Sync="TRUE">EPSG</idCodeSpace>
<idVersion Sync="TRUE">6.18.3(9.3.1.2)</idVersion>
</refSysID>
</RefSystem>
</refSysInfo>
<spdoinfo>
<rastinfo>
<rasttype Sync="TRUE">Pixel</rasttype>
<rowcount Sync="TRUE">2356</rowcount>
<colcount Sync="TRUE">1656</colcount>
<rastxsz Sync="TRUE">100.000000</rastxsz>
<rastysz Sync="TRUE">100.000000</rastysz>
<rastbpp Sync="TRUE">32</rastbpp>
<vrtcount Sync="TRUE">1</vrtcount>
<rastorig Sync="TRUE">Upper Left</rastorig>
<rastcmap Sync="TRUE">FALSE</rastcmap>
<rastcomp Sync="TRUE">LZ77</rastcomp>
<rastband Sync="TRUE">1</rastband>
<rastdtyp Sync="TRUE">pixel codes</rastdtyp>
<rastifor Sync="TRUE">SDR</rastifor>
<rastplyr Sync="TRUE">TRUE</rastplyr>
</rastinfo>
</spdoinfo>
<spref>
<horizsys>
<planar>
<planci>
<plance Sync="TRUE">row and column</plance>
<coordrep>
<absres Sync="TRUE">100.000000</absres>
<ordres Sync="TRUE">100.000000</ordres>
</coordrep>
</planci>
</planar>
</horizsys>
</spref>
<mdDateSt Sync="TRUE">20221114</mdDateSt>
</metadata>
